BEGIN:VCALENDAR
VERSION:2.0
CALSCALE:GREGORIAN
PRODID:-//Diputació de Barcelona//DibaCMS//EN
BEGIN:VEVENT
UID:12941
DTSTAMP:20260426T041356
DTSTART:20260121T080000
DTEND:20260121T150000
SUMMARY:Deixalleria Mòbil a Vinyoles
LOCATION:
METHOD:PUBLISH
X-WR-CALNAME:masiesv@lesmasiesdevoltrega.cat
X-WR-TIMEZONE:Europe/Madrid
DESCRIPTION:
URI:https://www.lesmasiesdevoltrega.cat/actualitat/agenda/12941-deixalleria-mobil-a-vinyoles.html
CLASS:PUBLIC
END:VEVENT
END:VCALENDAR
