BEGIN:VCALENDAR
VERSION:2.0
CALSCALE:GREGORIAN
PRODID:-//Diputació de Barcelona//DibaCMS//EN
BEGIN:VEVENT
UID:12961
DTSTAMP:20260426T040905
DTSTART:20260121T090000
DTEND:20260121T120000
SUMMARY:Alcaldessa per un dia
LOCATION:
METHOD:PUBLISH
X-WR-CALNAME:masiesv@lesmasiesdevoltrega.cat
X-WR-TIMEZONE:Europe/Madrid
DESCRIPTION:
URI:https://www.lesmasiesdevoltrega.cat/actualitat/agenda/12961-alcaldessa-per-un-dia.html
CLASS:PUBLIC
END:VEVENT
END:VCALENDAR
